BEGIN:VCALENDAR
VERSION:2.0
PRODID:-//43.250.140.22//NONSGML kigkonsult.se iCalcreator 2.26.9//
CALSCALE:GREGORIAN
METHOD:PUBLISH
X-WR-CALNAME:Bob Hawke College
X-WR-CALDESC:Extraordinary Together
X-FROM-URL:https://bobhawkecollege.wa.edu.au
X-WR-TIMEZONE:Asia/Krasnoyarsk
BEGIN:VTIMEZONE
TZID:Asia/Krasnoyarsk
X-LIC-LOCATION:Asia/Krasnoyarsk
BEGIN:STANDARD
DTSTART:20141026T020000
TZOFFSETFROM:+0800
TZOFFSETTO:+0700
TZNAME:+07
END:STANDARD
END:VTIMEZONE
BEGIN:VEVENT
UID:37040320201600
DTSTAMP:20210226T185629Z
CATEGORIES:
CONTACT:
DESCRIPTION:
DTSTART;TZID=Asia/Krasnoyarsk:20200305T000000
DTEND;TZID=Asia/Krasnoyarsk:20200305T235959
SEQUENCE:0
SUMMARY:Swimming Carnival
URL:https://bobhawkecollege.wa.edu.au/event/swimming-carnival/
END:VEVENT
END:VCALENDAR
